BEGIN:VCALENDAR
VERSION:2.0
PRODID:-//eventon.com NONSGML v1.0//EN
CALSCALE:GREGORIAN
METHOD:PUBLISH
BEGIN:VEVENT
UID:69ea1edf6abc7
DTSTAMP:20260423T133007Z
DTSTART:20260504
DTEND:20260505
LOCATION:
SUMMARY:May Day
DESCRIPTION:School Closed for May Day &#8211; Monday 4th May 2026\nhttps://
 inmansprimaryschool.co.uk/events/may-day/
URL:https://inmansprimaryschool.co.uk/events/may-day/
END:VEVENT
END:VCALENDAR