BEGIN:VCALENDAR
VERSION:2.0
PRODID:-//eventon.com NONSGML v1.0//EN
CALSCALE:GREGORIAN
METHOD:PUBLISH
BEGIN:VEVENT
UID:69ea092702e1b
DTSTAMP:20260423T115727Z
DTSTART:20260522T152000Z
DTEND:20260522T152000Z
LOCATION:
SUMMARY:Break Off
DESCRIPTION:Close – Friday 22nd May 2026\nhttps://inmansprimaryschool.co.
 uk/events/break-off-7/
URL:https://inmansprimaryschool.co.uk/events/break-off-7/
END:VEVENT
END:VCALENDAR