BEGIN:VCALENDAR
VERSION:2.0
PRODID:-//eventon.com NONSGML v1.0//EN
CALSCALE:GREGORIAN
METHOD:PUBLISH
BEGIN:VEVENT
UID:69ea08f515dee
DTSTAMP:20260423T115637Z
DTSTART:20260717T152000Z
DTEND:20260717T152000Z
LOCATION:
SUMMARY:Break Off
DESCRIPTION:Close – Friday 17th July 2025\nhttps://inmansprimaryschool.co
 .uk/events/break-off-8/
URL:https://inmansprimaryschool.co.uk/events/break-off-8/
END:VEVENT
END:VCALENDAR