BEGIN:VCALENDAR
VERSION:2.0
PRODID:-//eventon.com NONSGML v1.0//EN
CALSCALE:GREGORIAN
METHOD:PUBLISH
BEGIN:VEVENT
UID:69ea0926f1b71
DTSTAMP:20260423T115726Z
DTSTART:20260616T180000Z
DTEND:20260617T080000Z
LOCATION:
SUMMARY:Y3 Sleepover at The Deep
DESCRIPTION:We have booked an overnight residential for our Y3 pupils; a Sc
 hool Sleepover at The Deep in Hull. This will take place on Tuesday 16th Ju
 ne 2026. The cost of the trip is £50 and will include the sleepover\,  gui
 ded tour of the deep\,  a bag and badge workshop\,  and[..]\nhttps://inmans
 primaryschool.co.uk/events/y3-sleepover-at-the-deep/
URL:https://inmansprimaryschool.co.uk/events/y3-sleepover-at-the-deep/
END:VEVENT
END:VCALENDAR