BEGIN:VCALENDAR
VERSION:2.0
PRODID:-//eventon.com NONSGML v1.0//EN
CALSCALE:GREGORIAN
METHOD:PUBLISH
BEGIN:VEVENT
UID:69ea1e84b16d0
DTSTAMP:20260423T132836Z
DTSTART:20260511T090000Z
DTEND:20260522T000000Z
LOCATION:
SUMMARY:Y4 Swimming Lessons
DESCRIPTION:Monday 11th May &#8211; Friday 22nd May &#8211; Y4 Swimming Les
 sons Y4 pupils will be walking to/from South Holderness Leisure Centre. Ple
 ase remember to pack their swim bag with swimwear (no long shorts or 2-piec
 e allowed)\,  towel and goggles/nose clip if needed. Children will need a d
 rinks bottle and they[..]\nhttps://inmansprimaryschool.co.uk/events/y4-swim
 ming-lessons/
URL:https://inmansprimaryschool.co.uk/events/y4-swimming-lessons/
END:VEVENT
END:VCALENDAR