BEGIN:VCALENDAR
VERSION:2.0
PRODID:-//eventon.com NONSGML v1.0//EN
CALSCALE:GREGORIAN
METHOD:PUBLISH
BEGIN:VEVENT
UID:69ea1dd3632f0
DTSTAMP:20260423T132539Z
DTSTART:20260511
DTEND:20260512
LOCATION:
SUMMARY:Y6 SATs
DESCRIPTION:Y6 SATs\nhttps://inmansprimaryschool.co.uk/events/y6-sats/
URL:https://inmansprimaryschool.co.uk/events/y6-sats/
END:VEVENT
END:VCALENDAR