BEGIN:VCALENDAR
VERSION:2.0
PRODID:-//eventon.com NONSGML v1.0//EN
CALSCALE:GREGORIAN
METHOD:PUBLISH
BEGIN:VEVENT
UID:69ea1e2021f83
DTSTAMP:20260423T132656Z
DTSTART:20260522T140000Z
DTEND:20260522T152000Z
LOCATION:
SUMMARY:Reading Picnic
DESCRIPTION:Friday 22nd May &#8211; Reading Picnic &#8211; 2pm-3.20pm Paren
 ts/Carers/Family Members are invited to join us for a Reading Picnic on the
  school field. Bring a blanket\,  some picnic snacks and your favourite boo
 ks. Fingers crossed for good weather! Picnic Boxes &#8211; are available to
  order on Arbor for £6. Each[..]\nhttps://inmansprimaryschool.co.uk/events
 /reading-picnic/
URL:https://inmansprimaryschool.co.uk/events/reading-picnic/
END:VEVENT
END:VCALENDAR